BEGIN:VCALENDAR
VERSION:2.0
PRODID:DPCALENDAR
CALSCALE:GREGORIAN
BEGIN:VTIMEZONE
TZID:America/Detroit
BEGIN:STANDARD
DTSTART:20251102T060000
TZOFFSETFROM:-0400
TZOFFSETTO:-0500
TZNAME:EST
END:STANDARD
BEGIN:STANDARD
DTSTART:20261101T060000
TZOFFSETFROM:-0400
TZOFFSETTO:-0500
TZNAME:EST
END:STANDARD
BEGIN:DAYLIGHT
DTSTART:20260308T070000
TZOFFSETFROM:-0500
TZOFFSETTO:-0400
TZNAME:EDT
END:DAYLIGHT
END:VTIMEZONE
X-WR-TIMEZONE:America/Detroit
BEGIN:VEVENT
DTSTART;VALUE=DATE:20260605
DTEND;VALUE=DATE:20260614
UID:19A8D48D-19FB-48E9-8FC1-7953852A6EEF
SUMMARY:Junior Counselor Training (young men grades 9-12)
CREATED:20141102T223428Z
DTSTAMP:20141102T223428Z
URL:/battalion/junior-counselor-training
DESCRIPTION:Week of training for junior counselors.
X-ALT-DESC;FMTTYPE=text/html:<p>Week of training for junior counselors.</p>
LAST-MODIFIED:20251205T163935Z
SEQUENCE:349985107
X-ACCESS:1
X-HITS:32
X-COLOR:1c5887
X-SHOW-END-TIME:1
END:VEVENT
BEGIN:VEVENT
DTSTART;VALUE=DATE:20260605
DTEND;VALUE=DATE:20260608
UID:4683DF6E-C8EA-42FB-BBAC-33308ACFD8AD
SUMMARY:Father-Son Weekend Getaway
CREATED:20141102T225114Z
DTSTAMP:20141102T225114Z
URL:/father-son/weekend-getaway
LAST-MODIFIED:20251205T164009Z
SEQUENCE:349984135
X-ACCESS:1
X-HITS:87
X-COLOR:618533
X-SHOW-END-TIME:1
END:VEVENT
BEGIN:VEVENT
DTSTART;VALUE=DATE:20260607
DTEND;VALUE=DATE:20260611
UID:15A8659D-7E1E-44FB-937E-98587A438E54
SUMMARY:Father-Daughter (grades 1-11) Session 1
CREATED:20141102T224933Z
DTSTAMP:20141102T224933Z
URL:/father-daughter
LAST-MODIFIED:20251205T164037Z
SEQUENCE:349984264
X-ACCESS:1
X-HITS:85
X-COLOR:782f73
X-SHOW-END-TIME:1
END:VEVENT
BEGIN:VEVENT
DTSTART;VALUE=DATE:20260610
DTEND;VALUE=DATE:20260614
UID:E4865DC4-A6CF-4E4C-B031-493BB6CAA87D
SUMMARY:Father-Daughter (grades 1-11) Session 2
CREATED:20141102T224933Z
DTSTAMP:20141102T224933Z
URL:/father-daughter
LAST-MODIFIED:20251205T164111Z
SEQUENCE:349984298
X-ACCESS:1
X-HITS:28
X-COLOR:782f73
X-SHOW-END-TIME:1
END:VEVENT
BEGIN:VEVENT
DTSTART;VALUE=DATE:20260614
DTEND;VALUE=DATE:20260621
UID:A5440F29-E889-4269-868A-561159274A26
SUMMARY:Battalion Adventure (young men grades 7-12)
CREATED:20141102T195806Z
DTSTAMP:20141102T195806Z
URL:/battalion
LAST-MODIFIED:20251205T164133Z
SEQUENCE:349994607
X-ACCESS:1
X-HITS:79
X-COLOR:354359
X-SHOW-END-TIME:1
END:VEVENT
BEGIN:VEVENT
DTSTART;VALUE=DATE:20260614
DTEND;VALUE=DATE:20260621
UID:CB5C4948-7D76-4927-9298-6CEBF4980D96
SUMMARY:Battalion High Adventure (young men grades 7-12)
CREATED:20141102T223201Z
DTSTAMP:20141102T223201Z
URL:/battalion
LAST-MODIFIED:20251205T164204Z
SEQUENCE:349985403
X-ACCESS:1
X-HITS:51
X-COLOR:354359
X-SHOW-END-TIME:1
END:VEVENT
BEGIN:VEVENT
DTSTART;VALUE=DATE:20260621
DTEND;VALUE=DATE:20260628
UID:F0BEA169-3C77-49DF-B26A-9788CFF0AA4E
SUMMARY:Stockade Full Week (boys grades 3-6)
CREATED:20141102T223741Z
DTSTAMP:20141102T223741Z
URL:/stockade
LAST-MODIFIED:20251205T164225Z
SEQUENCE:349985084
X-ACCESS:1
X-HITS:73
X-COLOR:b3661a
X-SHOW-END-TIME:1
END:VEVENT
BEGIN:VEVENT
DTSTART;VALUE=DATE:20260621
DTEND;VALUE=DATE:20260625
UID:25BB55E2-264B-4C6C-8161-82C3AA7ACE08
SUMMARY:Stockade Half Week (boys grades 3-6)
CREATED:20141102T223929Z
DTSTAMP:20141102T223929Z
URL:/stockade
LAST-MODIFIED:20251205T164255Z
SEQUENCE:349985006
X-ACCESS:1
X-HITS:59
X-COLOR:b3661a
X-SHOW-END-TIME:1
END:VEVENT
BEGIN:VEVENT
DTSTART;VALUE=DATE:20260621
DTEND;VALUE=DATE:20260628
UID:2B41DB07-EBD8-48A5-94C4-530DCC44FFA5
SUMMARY:Battalion Cross Country Training Camp (young men grades 8-12)
CREATED:20141102T223201Z
DTSTAMP:20141102T223201Z
URL:/battalion
LAST-MODIFIED:20251205T164600Z
SEQUENCE:349985639
X-ACCESS:1
X-HITS:7
X-COLOR:17438f
X-SHOW-END-TIME:1
END:VEVENT
BEGIN:VEVENT
DTSTART;VALUE=DATE:20260628
DTEND;VALUE=DATE:20260702
UID:C317107F-2051-479F-924E-49A8ADD8D92F
SUMMARY:Father-Son Battalion Weekend (grades 7-12)
CREATED:20141102T224450Z
DTSTAMP:20141102T224450Z
URL:/father-son/father-son-battalion
LAST-MODIFIED:20251205T164316Z
SEQUENCE:349984706
X-ACCESS:1
X-HITS:39
X-COLOR:404e2b
X-SHOW-END-TIME:1
END:VEVENT
BEGIN:VEVENT
DTSTART;VALUE=DATE:20260628
DTEND;VALUE=DATE:20260702
UID:1E4DED84-6D74-45AC-9258-E43B6C9D6E9C
SUMMARY:Father-Son Stockade (sons grades 3-6)
CREATED:20141102T224622Z
DTSTAMP:20141102T224622Z
URL:/father-son/father-son-stockade
LAST-MODIFIED:20251205T164336Z
SEQUENCE:349984634
X-ACCESS:1
X-HITS:44
X-COLOR:3aa12f
X-SHOW-END-TIME:1
END:VEVENT
BEGIN:VEVENT
DTSTART;VALUE=DATE:20260628
DTEND;VALUE=DATE:20260702
UID:886285DF-A431-4738-A217-38225FEA800A
SUMMARY:Father-Son Tree Climbers (sons grades 1-2)
CREATED:20141102T224725Z
DTSTAMP:20141102T224725Z
URL:/father-son/father-son-tree-climbers
LAST-MODIFIED:20251205T164355Z
SEQUENCE:349984590
X-ACCESS:1
X-HITS:46
X-COLOR:9b9e3c
X-SHOW-END-TIME:1
END:VEVENT
END:VCALENDAR